Package: derfinderData Version: 2.29.0 Command: /home/biocbuild/bbs-3.23-bioc/R/bin/R CMD build --keep-empty-dirs --no-resave-data derfinderData StartedAt: 2025-11-11 11:14:27 -0500 (Tue, 11 Nov 2025) EndedAt: 2025-11-11 11:14:34 -0500 (Tue, 11 Nov 2025) EllapsedTime: 7.0 seconds RetCode: 0 Status: OK PackageFile: derfinderData_2.29.0.tar.gz PackageFileSize: 25.57 MiB