Package: depmap Version: 1.25.0 Command: /home/biocbuild/bbs-3.23-bioc/R/bin/R CMD check --install=check:depmap.install-out.txt --library=/home/biocbuild/bbs-3.23-bioc/R/site-library --timings depmap_1.25.0.tar.gz StartedAt: 2025-11-11 12:11:52 -0500 (Tue, 11 Nov 2025) EndedAt: 2025-11-11 12:22:24 -0500 (Tue, 11 Nov 2025) EllapsedTime: 631.2 seconds RetCode: 0 Status: OK CheckDir: depmap.Rcheck Warnings: 0