Package: davidTiling Version: 1.51.0 Command: /home/biocbuild/bbs-3.23-bioc/R/bin/R CMD check --install=check:davidTiling.install-out.txt --library=/home/biocbuild/bbs-3.23-bioc/R/site-library --timings davidTiling_1.51.0.tar.gz StartedAt: 2025-11-13 12:13:23 -0500 (Thu, 13 Nov 2025) EndedAt: 2025-11-13 12:17:43 -0500 (Thu, 13 Nov 2025) EllapsedTime: 259.7 seconds RetCode: 0 Status: WARNINGS CheckDir: davidTiling.Rcheck Warnings: 1