Package: curatedTCGAData Version: 1.33.0 Command: /home/biocbuild/bbs-3.23-bioc/R/bin/R CMD INSTALL curatedTCGAData StartedAt: 2025-11-11 10:59:18 -0500 (Tue, 11 Nov 2025) EndedAt: 2025-11-11 10:59:45 -0500 (Tue, 11 Nov 2025) EllapsedTime: 27.4 seconds RetCode: 0 Status: OK