Package: curatedTCGAData Version: 1.33.0 Command: /home/biocbuild/bbs-3.23-bioc/R/bin/R CMD check --install=check:curatedTCGAData.install-out.txt --library=/home/biocbuild/bbs-3.23-bioc/R/site-library --timings curatedTCGAData_1.33.0.tar.gz StartedAt: 2025-11-11 12:10:49 -0500 (Tue, 11 Nov 2025) EndedAt: 2025-11-11 12:14:54 -0500 (Tue, 11 Nov 2025) EllapsedTime: 244.8 seconds RetCode: 0 Status: OK CheckDir: curatedTCGAData.Rcheck Warnings: 0