Package: curatedTCGAData Version: 1.33.0 Command: /home/biocbuild/bbs-3.23-bioc/R/bin/R CMD build --keep-empty-dirs --no-resave-data curatedTCGAData StartedAt: 2025-11-11 11:13:00 -0500 (Tue, 11 Nov 2025) EndedAt: 2025-11-11 11:14:14 -0500 (Tue, 11 Nov 2025) EllapsedTime: 73.9 seconds RetCode: 0 Status: OK PackageFile: curatedTCGAData_1.33.0.tar.gz PackageFileSize: 417.1 KiB