Package: curatedPCaData Version: 1.7.0 Command: /home/biocbuild/bbs-3.23-bioc/R/bin/R CMD INSTALL curatedPCaData StartedAt: 2025-11-11 10:59:29 -0500 (Tue, 11 Nov 2025) EndedAt: 2025-11-11 11:00:13 -0500 (Tue, 11 Nov 2025) EllapsedTime: 44.5 seconds RetCode: 0 Status: OK