Package: curatedPCaData Version: 1.7.0 Command: /home/biocbuild/bbs-3.23-bioc/R/bin/R CMD build --keep-empty-dirs --no-resave-data curatedPCaData StartedAt: 2025-11-11 11:12:17 -0500 (Tue, 11 Nov 2025) EndedAt: 2025-11-11 11:18:29 -0500 (Tue, 11 Nov 2025) EllapsedTime: 372.0 seconds RetCode: 0 Status: OK PackageFile: curatedPCaData_1.7.0.tar.gz PackageFileSize: 2.936 MiB