Package: curatedOvarianData Version: 1.49.0 Command: /home/biocbuild/bbs-3.23-bioc/R/bin/R CMD INSTALL curatedOvarianData StartedAt: 2025-11-13 10:56:26 -0500 (Thu, 13 Nov 2025) EndedAt: 2025-11-13 10:56:35 -0500 (Thu, 13 Nov 2025) EllapsedTime: 9.7 seconds RetCode: 0 Status: OK