Package: curatedOvarianData Version: 1.49.0 Command: /home/biocbuild/bbs-3.23-bioc/R/bin/R CMD check --install=check:curatedOvarianData.install-out.txt --library=/home/biocbuild/bbs-3.23-bioc/R/site-library --timings curatedOvarianData_1.49.0.tar.gz StartedAt: 2025-11-11 12:09:57 -0500 (Tue, 11 Nov 2025) EndedAt: 2025-11-11 12:15:23 -0500 (Tue, 11 Nov 2025) EllapsedTime: 326.0 seconds RetCode: 0 Status: OK CheckDir: curatedOvarianData.Rcheck Warnings: 0