Package: curatedOvarianData Version: 1.49.0 Command: /home/biocbuild/bbs-3.23-bioc/R/bin/R CMD build --keep-empty-dirs --no-resave-data curatedOvarianData StartedAt: 2025-11-13 11:12:12 -0500 (Thu, 13 Nov 2025) EndedAt: 2025-11-13 11:14:39 -0500 (Thu, 13 Nov 2025) EllapsedTime: 147.2 seconds RetCode: 0 Status: OK PackageFile: curatedOvarianData_1.49.0.tar.gz PackageFileSize: 381.3 MiB