Package: curatedBreastData Version: 2.39.0 Command: /home/biocbuild/bbs-3.23-bioc/R/bin/R CMD INSTALL curatedBreastData StartedAt: 2025-11-13 10:57:53 -0500 (Thu, 13 Nov 2025) EndedAt: 2025-11-13 10:58:01 -0500 (Thu, 13 Nov 2025) EllapsedTime: 7.9 seconds RetCode: 0 Status: OK