Package: curatedBreastData Version: 2.39.0 Command: /home/biocbuild/bbs-3.23-bioc/R/bin/R CMD build --keep-empty-dirs --no-resave-data curatedBreastData StartedAt: 2025-11-11 11:11:53 -0500 (Tue, 11 Nov 2025) EndedAt: 2025-11-11 11:13:32 -0500 (Tue, 11 Nov 2025) EllapsedTime: 99.3 seconds RetCode: 0 Status: OK PackageFile: curatedBreastData_2.39.0.tar.gz PackageFileSize: 283.1 MiB