Package: curatedAdipoRNA Version: 1.27.0 Command: /home/biocbuild/bbs-3.23-bioc/R/bin/R CMD INSTALL curatedAdipoRNA StartedAt: 2025-11-11 11:01:55 -0500 (Tue, 11 Nov 2025) EndedAt: 2025-11-11 11:02:15 -0500 (Tue, 11 Nov 2025) EllapsedTime: 20.5 seconds RetCode: 0 Status: OK