Package: curatedAdipoRNA Version: 1.27.0 Command: /home/biocbuild/bbs-3.23-bioc/R/bin/R CMD check --install=check:curatedAdipoRNA.install-out.txt --library=/home/biocbuild/bbs-3.23-bioc/R/site-library --timings curatedAdipoRNA_1.27.0.tar.gz StartedAt: 2025-11-13 12:11:02 -0500 (Thu, 13 Nov 2025) EndedAt: 2025-11-13 12:13:55 -0500 (Thu, 13 Nov 2025) EllapsedTime: 173.2 seconds RetCode: 0 Status: WARNINGS CheckDir: curatedAdipoRNA.Rcheck Warnings: 1