Package: curatedAdipoRNA Version: 1.27.0 Command: /home/biocbuild/bbs-3.23-bioc/R/bin/R CMD build --keep-empty-dirs --no-resave-data curatedAdipoRNA StartedAt: 2025-11-11 11:11:34 -0500 (Tue, 11 Nov 2025) EndedAt: 2025-11-11 11:12:59 -0500 (Tue, 11 Nov 2025) EllapsedTime: 85.4 seconds RetCode: 0 Status: OK PackageFile: curatedAdipoRNA_1.27.0.tar.gz PackageFileSize: 5.548 MiB