Package: curatedAdipoChIP Version: 1.27.0 Command: /home/biocbuild/bbs-3.23-bioc/R/bin/R CMD INSTALL curatedAdipoChIP StartedAt: 2025-11-11 11:00:30 -0500 (Tue, 11 Nov 2025) EndedAt: 2025-11-11 11:00:56 -0500 (Tue, 11 Nov 2025) EllapsedTime: 25.9 seconds RetCode: 0 Status: OK