Package: curatedAdipoChIP Version: 1.27.0 Command: /home/biocbuild/bbs-3.23-bioc/R/bin/R CMD check --install=check:curatedAdipoChIP.install-out.txt --library=/home/biocbuild/bbs-3.23-bioc/R/site-library --timings curatedAdipoChIP_1.27.0.tar.gz StartedAt: 2025-11-11 12:09:26 -0500 (Tue, 11 Nov 2025) EndedAt: 2025-11-11 12:13:31 -0500 (Tue, 11 Nov 2025) EllapsedTime: 245.4 seconds RetCode: 0 Status: OK CheckDir: curatedAdipoChIP.Rcheck Warnings: 0