Package: curatedAdipoArray Version: 1.23.0 Command: /home/biocbuild/bbs-3.23-bioc/R/bin/R CMD build --keep-empty-dirs --no-resave-data curatedAdipoArray StartedAt: 2025-11-11 11:11:23 -0500 (Tue, 11 Nov 2025) EndedAt: 2025-11-11 11:11:38 -0500 (Tue, 11 Nov 2025) EllapsedTime: 14.6 seconds RetCode: 0 Status: OK PackageFile: curatedAdipoArray_1.23.0.tar.gz PackageFileSize: 36.28 KiB