Package: crisprScoreData Version: 1.15.0 Command: /home/biocbuild/bbs-3.23-bioc/R/bin/R CMD check --install=check:crisprScoreData.install-out.txt --library=/home/biocbuild/bbs-3.23-bioc/R/site-library --timings crisprScoreData_1.15.0.tar.gz StartedAt: 2025-11-13 12:10:56 -0500 (Thu, 13 Nov 2025) EndedAt: 2025-11-13 12:13:23 -0500 (Thu, 13 Nov 2025) EllapsedTime: 146.8 seconds RetCode: 0 Status: OK CheckDir: crisprScoreData.Rcheck Warnings: 0