Package: crisprScoreData Version: 1.15.0 Command: /home/biocbuild/bbs-3.23-bioc/R/bin/R CMD build --keep-empty-dirs --no-resave-data crisprScoreData StartedAt: 2025-11-13 11:11:26 -0500 (Thu, 13 Nov 2025) EndedAt: 2025-11-13 11:12:02 -0500 (Thu, 13 Nov 2025) EllapsedTime: 36.6 seconds RetCode: 0 Status: OK PackageFile: crisprScoreData_1.15.0.tar.gz PackageFileSize: 6.089 MiB