Package: colonCA Version: 1.53.0 Command: /home/biocbuild/bbs-3.23-bioc/R/bin/R CMD INSTALL colonCA StartedAt: 2025-11-11 10:56:21 -0500 (Tue, 11 Nov 2025) EndedAt: 2025-11-11 10:56:23 -0500 (Tue, 11 Nov 2025) EllapsedTime: 2.5 seconds RetCode: 0 Status: OK