Package: colonCA Version: 1.53.0 Command: /home/biocbuild/bbs-3.23-bioc/R/bin/R CMD build --keep-empty-dirs --no-resave-data colonCA StartedAt: 2025-11-11 11:10:44 -0500 (Tue, 11 Nov 2025) EndedAt: 2025-11-11 11:10:45 -0500 (Tue, 11 Nov 2025) EllapsedTime: 1.0 seconds RetCode: 0 Status: OK PackageFile: colonCA_1.53.0.tar.gz PackageFileSize: 783.3 KiB