Package: colonCA Version: 1.53.0 Maintainer: W Sylvia Merk MaintainerEmail: sylvia.merk at ukmuenster.de git_url: https://git.bioconductor.org/packages/colonCA git_branch: devel git_last_commit: 7a4b56b git_last_commit_date: 2025-10-29 09:23:24 -0500 (Wed, 29 Oct 2025)