Package: clustifyrdatahub Version: 1.21.0 Command: /home/biocbuild/bbs-3.23-bioc/R/bin/R CMD INSTALL clustifyrdatahub StartedAt: 2025-11-13 10:57:19 -0500 (Thu, 13 Nov 2025) EndedAt: 2025-11-13 10:57:32 -0500 (Thu, 13 Nov 2025) EllapsedTime: 12.8 seconds RetCode: 0 Status: OK