Package: chipenrich.data Version: 2.35.0 Command: /home/biocbuild/bbs-3.23-bioc/R/bin/R CMD INSTALL chipenrich.data StartedAt: 2025-11-13 11:00:52 -0500 (Thu, 13 Nov 2025) EndedAt: 2025-11-13 11:02:44 -0500 (Thu, 13 Nov 2025) EllapsedTime: 111.1 seconds RetCode: 0 Status: OK