Package: cfToolsData Version: 1.9.0 Command: /home/biocbuild/bbs-3.23-bioc/R/bin/R CMD INSTALL cfToolsData StartedAt: 2025-11-11 10:57:17 -0500 (Tue, 11 Nov 2025) EndedAt: 2025-11-11 10:57:31 -0500 (Tue, 11 Nov 2025) EllapsedTime: 13.9 seconds RetCode: 0 Status: OK