Package: celldex Version: 1.21.0 Command: /home/biocbuild/bbs-3.23-bioc/R/bin/R CMD INSTALL celldex StartedAt: 2025-11-13 11:02:49 -0500 (Thu, 13 Nov 2025) EndedAt: 2025-11-13 11:03:21 -0500 (Thu, 13 Nov 2025) EllapsedTime: 31.5 seconds RetCode: 0 Status: OK