Package: celldex Version: 1.21.0 Command: /home/biocbuild/bbs-3.23-bioc/R/bin/R CMD check --install=check:celldex.install-out.txt --library=/home/biocbuild/bbs-3.23-bioc/R/site-library --timings celldex_1.21.0.tar.gz StartedAt: 2025-11-13 12:06:00 -0500 (Thu, 13 Nov 2025) EndedAt: 2025-11-13 12:11:16 -0500 (Thu, 13 Nov 2025) EllapsedTime: 315.7 seconds RetCode: 0 Status: OK CheckDir: celldex.Rcheck Warnings: 0