Package: celarefData Version: 1.29.0 Command: /home/biocbuild/bbs-3.23-bioc/R/bin/R CMD check --install=check:celarefData.install-out.txt --library=/home/biocbuild/bbs-3.23-bioc/R/site-library --timings celarefData_1.29.0.tar.gz StartedAt: 2025-11-11 12:04:12 -0500 (Tue, 11 Nov 2025) EndedAt: 2025-11-11 12:04:52 -0500 (Tue, 11 Nov 2025) EllapsedTime: 39.6 seconds RetCode: 0 Status: OK CheckDir: celarefData.Rcheck Warnings: 0