Package: cancerdata Version: 1.49.0 Command: /home/biocbuild/bbs-3.23-bioc/R/bin/R CMD INSTALL cancerdata StartedAt: 2025-11-13 10:56:04 -0500 (Thu, 13 Nov 2025) EndedAt: 2025-11-13 10:56:07 -0500 (Thu, 13 Nov 2025) EllapsedTime: 3.1 seconds RetCode: 0 Status: OK