Package: cancerdata Version: 1.49.0 Maintainer: Daniel Kosztyla MaintainerEmail: danielkossi at hotmail.com git_url: https://git.bioconductor.org/packages/cancerdata git_branch: devel git_last_commit: fe24762 git_last_commit_date: 2025-10-29 09:33:10 -0500 (Wed, 29 Oct 2025)