Package: cMap2data Version: 1.47.0 Command: /home/biocbuild/bbs-3.23-bioc/R/bin/R CMD INSTALL cMap2data StartedAt: 2025-11-11 10:55:10 -0500 (Tue, 11 Nov 2025) EndedAt: 2025-11-11 10:55:20 -0500 (Tue, 11 Nov 2025) EllapsedTime: 10.3 seconds RetCode: 0 Status: OK