Package: cMap2data Version: 1.47.0 Command: /home/biocbuild/bbs-3.23-bioc/R/bin/R CMD check --install=check:cMap2data.install-out.txt --library=/home/biocbuild/bbs-3.23-bioc/R/site-library --timings cMap2data_1.47.0.tar.gz StartedAt: 2025-11-11 12:07:24 -0500 (Tue, 11 Nov 2025) EndedAt: 2025-11-11 12:07:41 -0500 (Tue, 11 Nov 2025) EllapsedTime: 16.6 seconds RetCode: 0 Status: WARNINGS CheckDir: cMap2data.Rcheck Warnings: 1