Package: bugphyzz Version: 1.5.0 Command: /home/biocbuild/bbs-3.23-bioc/R/bin/R CMD INSTALL bugphyzz StartedAt: 2025-11-11 10:56:37 -0500 (Tue, 11 Nov 2025) EndedAt: 2025-11-11 10:56:40 -0500 (Tue, 11 Nov 2025) EllapsedTime: 2.5 seconds RetCode: 0 Status: OK