Package: bugphyzz Version: 1.5.0 Command: /home/biocbuild/bbs-3.23-bioc/R/bin/R CMD build --keep-empty-dirs --no-resave-data bugphyzz StartedAt: 2025-11-11 11:08:43 -0500 (Tue, 11 Nov 2025) EndedAt: 2025-11-11 11:09:45 -0500 (Tue, 11 Nov 2025) EllapsedTime: 62.4 seconds RetCode: 0 Status: OK PackageFile: bugphyzz_1.5.0.tar.gz PackageFileSize: 887.5 KiB