Package: bronchialIL13 Version: 1.49.0 Command: /home/biocbuild/bbs-3.23-bioc/R/bin/R CMD INSTALL bronchialIL13 StartedAt: 2025-11-11 10:56:12 -0500 (Tue, 11 Nov 2025) EndedAt: 2025-11-11 10:56:17 -0500 (Tue, 11 Nov 2025) EllapsedTime: 5.1 seconds RetCode: 0 Status: OK