Package: bronchialIL13 Version: 1.49.0 Command: /home/biocbuild/bbs-3.23-bioc/R/bin/R CMD check --install=check:bronchialIL13.install-out.txt --library=/home/biocbuild/bbs-3.23-bioc/R/site-library --timings bronchialIL13_1.49.0.tar.gz StartedAt: 2025-11-13 12:04:37 -0500 (Thu, 13 Nov 2025) EndedAt: 2025-11-13 12:05:02 -0500 (Thu, 13 Nov 2025) EllapsedTime: 25.6 seconds RetCode: 0 Status: OK CheckDir: bronchialIL13.Rcheck Warnings: 0