Package: bronchialIL13 Version: 1.49.0 Command: /home/biocbuild/bbs-3.23-bioc/R/bin/R CMD build --keep-empty-dirs --no-resave-data bronchialIL13 StartedAt: 2025-11-11 11:08:40 -0500 (Tue, 11 Nov 2025) EndedAt: 2025-11-11 11:08:47 -0500 (Tue, 11 Nov 2025) EllapsedTime: 7.1 seconds RetCode: 0 Status: OK PackageFile: bronchialIL13_1.49.0.tar.gz PackageFileSize: 69.13 MiB