Package: brgedata Version: 1.33.0 Command: /home/biocbuild/bbs-3.23-bioc/R/bin/R CMD INSTALL brgedata StartedAt: 2025-11-11 10:58:10 -0500 (Tue, 11 Nov 2025) EndedAt: 2025-11-11 10:59:17 -0500 (Tue, 11 Nov 2025) EllapsedTime: 66.2 seconds RetCode: 0 Status: OK