Package: brgedata Version: 1.33.0 Command: /home/biocbuild/bbs-3.23-bioc/R/bin/R CMD build --keep-empty-dirs --no-resave-data brgedata StartedAt: 2025-11-11 11:08:40 -0500 (Tue, 11 Nov 2025) EndedAt: 2025-11-11 11:12:41 -0500 (Tue, 11 Nov 2025) EllapsedTime: 241.2 seconds RetCode: 0 Status: OK PackageFile: brgedata_1.33.0.tar.gz PackageFileSize: 297 MiB