Package: brgedata Version: 1.33.0 Maintainer: Dolors Pelegri-Siso MaintainerEmail: dolors.pelegri at isglobal.org git_url: https://git.bioconductor.org/packages/brgedata git_branch: devel git_last_commit: b5bcd94 git_last_commit_date: 2025-10-29 10:04:06 -0500 (Wed, 29 Oct 2025)