Package: breastCancerUPP Version: 1.49.0 Command: /home/biocbuild/bbs-3.23-bioc/R/bin/R CMD build --keep-empty-dirs --no-resave-data breastCancerUPP StartedAt: 2025-11-13 11:08:39 -0500 (Thu, 13 Nov 2025) EndedAt: 2025-11-13 11:08:44 -0500 (Thu, 13 Nov 2025) EllapsedTime: 4.9 seconds RetCode: 0 Status: OK PackageFile: breastCancerUPP_1.49.0.tar.gz PackageFileSize: 29.59 MiB