Package: breastCancerUNT Version: 1.49.0 Command: /home/biocbuild/bbs-3.23-bioc/R/bin/R CMD INSTALL breastCancerUNT StartedAt: 2025-11-13 10:55:42 -0500 (Thu, 13 Nov 2025) EndedAt: 2025-11-13 10:55:45 -0500 (Thu, 13 Nov 2025) EllapsedTime: 2.9 seconds RetCode: 0 Status: OK