Package: breastCancerTRANSBIG Version: 1.49.0 Maintainer: Markus Schroeder , Benjamin Haibe-Kains MaintainerEmail: bhaibeka at jimmy.harvard.edu git_url: https://git.bioconductor.org/packages/breastCancerTRANSBIG git_branch: devel git_last_commit: 4f21e28 git_last_commit_date: 2025-10-29 09:32:14 -0500 (Wed, 29 Oct 2025)