Package: breastCancerNKI Version: 1.49.0 Command: /home/biocbuild/bbs-3.23-bioc/R/bin/R CMD build --keep-empty-dirs --no-resave-data breastCancerNKI StartedAt: 2025-11-11 11:08:32 -0500 (Tue, 11 Nov 2025) EndedAt: 2025-11-11 11:08:35 -0500 (Tue, 11 Nov 2025) EllapsedTime: 2.6 seconds RetCode: 0 Status: OK PackageFile: breastCancerNKI_1.49.0.tar.gz PackageFileSize: 15.55 MiB