Package: breastCancerNKI Version: 1.49.0 Maintainer: Markus Schroeder , Benjamin Haibe-Kains MaintainerEmail: bhaibeka at jimmy.harvard.edu git_url: https://git.bioconductor.org/packages/breastCancerNKI git_branch: devel git_last_commit: 8a0df9f git_last_commit_date: 2025-10-29 09:32:12 -0500 (Wed, 29 Oct 2025)