Package: breakpointRdata Version: 1.29.0 Maintainer: David Porubsky MaintainerEmail: david.porubsky at gmail.com git_url: https://git.bioconductor.org/packages/breakpointRdata git_branch: devel git_last_commit: fdaa671 git_last_commit_date: 2025-10-29 10:00:47 -0500 (Wed, 29 Oct 2025)