Package: blimaTestingData Version: 1.31.0 Command: /home/biocbuild/bbs-3.23-bioc/R/bin/R CMD check --install=check:blimaTestingData.install-out.txt --library=/home/biocbuild/bbs-3.23-bioc/R/site-library --timings blimaTestingData_1.31.0.tar.gz StartedAt: 2025-11-11 12:02:25 -0500 (Tue, 11 Nov 2025) EndedAt: 2025-11-11 12:03:50 -0500 (Tue, 11 Nov 2025) EllapsedTime: 85.7 seconds RetCode: 0 Status: OK CheckDir: blimaTestingData.Rcheck Warnings: 0