Package: bladderbatch Version: 1.49.0 Command: /home/biocbuild/bbs-3.23-bioc/R/bin/R CMD check --install=check:bladderbatch.install-out.txt --library=/home/biocbuild/bbs-3.23-bioc/R/site-library --timings bladderbatch_1.49.0.tar.gz StartedAt: 2025-11-11 12:02:15 -0500 (Tue, 11 Nov 2025) EndedAt: 2025-11-11 12:02:41 -0500 (Tue, 11 Nov 2025) EllapsedTime: 25.9 seconds RetCode: 0 Status: WARNINGS CheckDir: bladderbatch.Rcheck Warnings: 1